BEGIN:VCALENDAR
VERSION:2.0
PRODID:-//Sutter Creek Theater - ECPv4.9.11//NONSGML v1.0//EN
CALSCALE:GREGORIAN
METHOD:PUBLISH
X-WR-CALNAME:Sutter Creek Theater
X-ORIGINAL-URL:https://www.suttercreektheater.com/home
X-WR-CALDESC:Events for Sutter Creek Theater
BEGIN:VTIMEZONE
TZID:America/Los_Angeles
BEGIN:DAYLIGHT
TZOFFSETFROM:-0800
TZOFFSETTO:-0700
TZNAME:PDT
DTSTART:20260308T100000
END:DAYLIGHT
BEGIN:STANDARD
TZOFFSETFROM:-0700
TZOFFSETTO:-0800
TZNAME:PST
DTSTART:20261101T090000
END:STANDARD
END:VTIMEZONE
BEGIN:VEVENT
DTSTART;TZID=America/Los_Angeles:20260418T190000
DTEND;TZID=America/Los_Angeles:20260418T210000
DTSTAMP:20260424T135830
CREATED:20260123T050015Z
LAST-MODIFIED:20260418T150826Z
UID:49136-1776538800-1776546000@www.suttercreektheater.com
SUMMARY:WE HAVE TICKETS AT THE DOOR FOR Locked-N-Loaded - Performing Country's #1 Hits from the 60s to Today!
DESCRIPTION:Doors 6:30\, show 7 pm. Open seating\, beer and wine available. $25 Advance / $29 Day of Show \nMulti-Award Winning Band – Nationally recognized by sites such as TheKnot\, Weddings.com\, TheBash\, Gigmasters\, GigSalad and Reverb.  Locked-N-Loaded is a Country Music Cover Band delivering the “True Country Experience” to audiences all across the Western USA.  This exciting band has garnered numerous rave reviews from industry professionals. The band features an authentic\, full country line-up including pedal steel guitar and Nashville style lead electric guitar\,  as well as an electrifying stage show that entertains\, captivates and engages the crowd from the very first song all the way to the last. Their songs are carefully chosen and were all #1 chart topping hits that everyone in the audience will know all of the words to and can dance to. Songs that span the years from the classic country hits of the 60’s & 70’s through the prime country years of the 80’s & 90’s and even today’s current billboard topping radio hits. \nThe award winning historic Sutter Creek Theatre is an intimate 215 seat former silent film theatre with superb sound. Voted Best Indie Theatre multiple times (KCRA A-List). \n\n\n\n 
URL:https://www.suttercreektheater.com/home/event/locked-n-loaded-performing-countrys-1-hits-from-the-60s-to-today/
LOCATION:Sutter Creek Theater\, 44 Main Street\, Sutter Creek\, CA
ATTACH;FMTTYPE=image/jpeg:https://www.suttercreektheater.com/home/wp-content/uploads/2026/01/lockednloaded-website-resize.jpg
GEO:38.3932011;-120.8026924
X-APPLE-STRUCTURED-LOCATION;VALUE=URI;X-ADDRESS=Sutter Creek Theater 44 Main Street Sutter Creek CA;X-APPLE-RADIUS=500;X-TITLE=44 Main Street:geo:-120.8026924,38.3932011
END:VEVENT
END:VCALENDAR