BEGIN:VCALENDAR
VERSION:2.0
PRODID:-//Sutter Creek Theater - ECPv4.9.11//NONSGML v1.0//EN
CALSCALE:GREGORIAN
METHOD:PUBLISH
X-WR-CALNAME:Sutter Creek Theater
X-ORIGINAL-URL:https://www.suttercreektheater.com/home
X-WR-CALDESC:Events for Sutter Creek Theater
BEGIN:VTIMEZONE
TZID:America/Los_Angeles
BEGIN:DAYLIGHT
TZOFFSETFROM:-0800
TZOFFSETTO:-0700
TZNAME:PDT
DTSTART:20260308T100000
END:DAYLIGHT
BEGIN:STANDARD
TZOFFSETFROM:-0700
TZOFFSETTO:-0800
TZNAME:PST
DTSTART:20261101T090000
END:STANDARD
END:VTIMEZONE
BEGIN:VEVENT
DTSTART;TZID=America/Los_Angeles:20260501T200000
DTEND;TZID=America/Los_Angeles:20260501T220000
DTSTAMP:20260420T032156
CREATED:20260305T035035Z
LAST-MODIFIED:20260305T035035Z
UID:50130-1777665600-1777672800@www.suttercreektheater.com
SUMMARY:Forever Goldrush - Roots rock n roll
DESCRIPTION:Doors 7:30\, show 8 pm. Open seating\, beer and wine available. $20 Advance / $23 Day of Show \nForever Goldrush is a Northern California 4-piece roots rock and roll band. They formed in 1997\, have released four critically acclaimed albums\, and have toured extensively sharing the bill with such artists as Neko Case\, Drive By Truckers\, Mother Hips\, Train\, Elle King\, and others. Forever Goldrush has an uplifting sweet-jam style built on well-crafted songs and phenomenal musicianship.  \nThe award winning historic Sutter Creek Theatre is an intimate 215 seat former silent film theatre with superb sound. Voted Best Indie Theatre multiple times (KCRA A-List). \nJUST VOTED AMADOR COUNTY’S BEST DATE NIGHT SPOT!! \n\n\n 
URL:https://www.suttercreektheater.com/home/event/forever-goldrush-roots-rock-n-roll/
LOCATION:Sutter Creek Theater\, 44 Main Street\, Sutter Creek\, CA
ATTACH;FMTTYPE=image/jpeg:https://www.suttercreektheater.com/home/wp-content/uploads/2026/03/forever-goldrush-resize.jpg
GEO:38.3932011;-120.8026924
X-APPLE-STRUCTURED-LOCATION;VALUE=URI;X-ADDRESS=Sutter Creek Theater 44 Main Street Sutter Creek CA;X-APPLE-RADIUS=500;X-TITLE=44 Main Street:geo:-120.8026924,38.3932011
END:VEVENT
END:VCALENDAR